BEGIN:VCALENDAR
VERSION:2.0
PRODID:-//Guitars 4 Vets - ECPv6.15.20//NONSGML v1.0//EN
CALSCALE:GREGORIAN
METHOD:PUBLISH
X-WR-CALNAME:Guitars 4 Vets
X-ORIGINAL-URL:https://guitars4vets.org
X-WR-CALDESC:Events for Guitars 4 Vets
REFRESH-INTERVAL;VALUE=DURATION:PT1H
X-Robots-Tag:noindex
X-PUBLISHED-TTL:PT1H
BEGIN:VTIMEZONE
TZID:UTC
BEGIN:STANDARD
TZOFFSETFROM:+0000
TZOFFSETTO:+0000
TZNAME:UTC
DTSTART:20240101T000000
END:STANDARD
END:VTIMEZONE
BEGIN:VEVENT
DTSTART;VALUE=DATE:20250712
DTEND;VALUE=DATE:20250713
DTSTAMP:20260425T200108
CREATED:20250506T140541Z
LAST-MODIFIED:20250508T191920Z
UID:10000020-1752278400-1752364799@guitars4vets.org
SUMMARY:Gary Sinise Foundation - Rockin' for Our Vets
DESCRIPTION:Date: Saturday\, July 12\, 2025\nLocation: Cantigny Park\, Wheaton\, IL\nOff-Site Parking: DuPage Complex and County Fairgrounds\nTime: Doors open at 2:00 PM\nOpening Band Stolen Silver start at 6:00 pm\nGary Sinise and the Lt. Dan Band start at 7:00 pm\nTickets: $50 + service fee (includes parking\, entry\, and on-site transportation). \nJoin us on July 12\, 2025\, for an evening concert dedicated to and in honor of our local veterans. The proceeds of this concert will support the WSFDV mission to help provide housing and other living needs to Disabled Veterans and their families. \nPurchase Tickets Here!
URL:https://guitars4vets.org/event/gary-sinise-foundation-rockin-for-our-vets/
LOCATION:Cantigny Park\, 1 S\, 151 Winfield Rd\, Wheaton\, IL\, 60189\, United States
ATTACH;FMTTYPE=image/jpeg:https://guitars4vets.org/wp-content/uploads/2025/05/2025-WSFDV-ROCKIN-LOGO-PHOTO-1.jpg
END:VEVENT
END:VCALENDAR